BEGIN:VCALENDAR
VERSION:2.0
PRODID:-//jEvents 2.0 for Joomla//EN
CALSCALE:GREGORIAN
METHOD:PUBLISH
BEGIN:VTIMEZONE
TZID:America/Los_Angeles
BEGIN:STANDARD
DTSTART:20211126T000000
RDATE:20220313T030000
TZOFFSETFROM:-0700
TZOFFSETTO:-0800
TZNAME:America/Los_Angeles PST
END:STANDARD
BEGIN:STANDARD
DTSTART:20221106T010000
RDATE:20230312T030000
TZOFFSETFROM:-0700
TZOFFSETTO:-0800
TZNAME:America/Los_Angeles PST
END:STANDARD
BEGIN:STANDARD
DTSTART:20231105T010000
RDATE:20240310T030000
TZOFFSETFROM:-0700
TZOFFSETTO:-0800
TZNAME:America/Los_Angeles PST
END:STANDARD
BEGIN:STANDARD
DTSTART:20241103T010000
RDATE:20250309T030000
TZOFFSETFROM:-0700
TZOFFSETTO:-0800
TZNAME:America/Los_Angeles PST
END:STANDARD
BEGIN:STANDARD
DTSTART:20251102T010000
RDATE:20260308T030000
TZOFFSETFROM:-0700
TZOFFSETTO:-0800
TZNAME:America/Los_Angeles PST
END:STANDARD
BEGIN:STANDARD
DTSTART:20261101T010000
RDATE:20270314T030000
TZOFFSETFROM:-0700
TZOFFSETTO:-0800
TZNAME:America/Los_Angeles PST
END:STANDARD
BEGIN:STANDARD
DTSTART:20271107T010000
RDATE:20280312T030000
TZOFFSETFROM:-0700
TZOFFSETTO:-0800
TZNAME:America/Los_Angeles PST
END:STANDARD
BEGIN:STANDARD
DTSTART:20281105T010000
RDATE:20290311T030000
TZOFFSETFROM:-0700
TZOFFSETTO:-0800
TZNAME:America/Los_Angeles PST
END:STANDARD
BEGIN:STANDARD
DTSTART:20291104T010000
RDATE:20300310T030000
TZOFFSETFROM:-0700
TZOFFSETTO:-0800
TZNAME:America/Los_Angeles PST
END:STANDARD
BEGIN:STANDARD
DTSTART:20301103T010000
RDATE:20310309T030000
TZOFFSETFROM:-0700
TZOFFSETTO:-0800
TZNAME:America/Los_Angeles PST
END:STANDARD
BEGIN:DAYLIGHT
DTSTART:20220313T030000
RDATE:20221106T010000
TZOFFSETFROM:-0800
TZOFFSETTO:-0700
TZNAME:America/Los_Angeles PDT
END:DAYLIGHT
BEGIN:DAYLIGHT
DTSTART:20230312T030000
RDATE:20231105T010000
TZOFFSETFROM:-0800
TZOFFSETTO:-0700
TZNAME:America/Los_Angeles PDT
END:DAYLIGHT
BEGIN:DAYLIGHT
DTSTART:20240310T030000
RDATE:20241103T010000
TZOFFSETFROM:-0800
TZOFFSETTO:-0700
TZNAME:America/Los_Angeles PDT
END:DAYLIGHT
BEGIN:DAYLIGHT
DTSTART:20250309T030000
RDATE:20251102T010000
TZOFFSETFROM:-0800
TZOFFSETTO:-0700
TZNAME:America/Los_Angeles PDT
END:DAYLIGHT
BEGIN:DAYLIGHT
DTSTART:20260308T030000
RDATE:20261101T010000
TZOFFSETFROM:-0800
TZOFFSETTO:-0700
TZNAME:America/Los_Angeles PDT
END:DAYLIGHT
BEGIN:DAYLIGHT
DTSTART:20270314T030000
RDATE:20271107T010000
TZOFFSETFROM:-0800
TZOFFSETTO:-0700
TZNAME:America/Los_Angeles PDT
END:DAYLIGHT
BEGIN:DAYLIGHT
DTSTART:20280312T030000
RDATE:20281105T010000
TZOFFSETFROM:-0800
TZOFFSETTO:-0700
TZNAME:America/Los_Angeles PDT
END:DAYLIGHT
BEGIN:DAYLIGHT
DTSTART:20290311T030000
RDATE:20291104T010000
TZOFFSETFROM:-0800
TZOFFSETTO:-0700
TZNAME:America/Los_Angeles PDT
END:DAYLIGHT
BEGIN:DAYLIGHT
DTSTART:20300310T030000
RDATE:20301103T010000
TZOFFSETFROM:-0800
TZOFFSETTO:-0700
TZNAME:America/Los_Angeles PDT
END:DAYLIGHT
END:VTIMEZONE
BEGIN:VEVENT
UID:d25dfdf34f8de90d47e0ce926cd9e7d4
CATEGORIES:Worship
CREATED:20161120T195017
SUMMARY:Advent 1 -- “Be Born in Us Today Bringing Blessing” (Genesis 12:2)
DESCRIPTION:Advent Sundays and Christmas Eve Worship\n“Be Born In Us Today”\nIn this Ad
 vent Series, we are reminded that Christ is born in us spiritually today an
 d every day.\nHe enters into us daily to strengthen and support us, save us
  and renew us. We are changed by his presence within us as we become more a
 nd more like him in the living of our lives.\nNovember 27 • “Be Born in Us 
 Today Bringing Blessing” (Genesis 12:2): God promises Abraham that an offsp
 ring from his line would bring blessing to all. When Jesus was born, that p
 romise came true with an abundance.\nDecember 4 • “Be Born in Us Today Brin
 ging Renewal” (Isaiah 40:31): The prophet Isaiah declared that a Holy One f
 rom God would be born into this world to bring renewal to all the faint and
  weary. Christ’s birth restores our strength that we might serve him.\nDece
 mber 11 • “Be Born in Us Today Bringing Guidance” (Psalm 31:3): The childre
 n of Israel wandered in the desert for 40 years, often doubting God’s plan 
 for them. With the arrival of Jesus on the scene, we have a clear path to t
 he promised land of heaven through him who is the Way.\nDecember 18 • “Be B
 orn in Us Today Bringing Power” (Exodus 15:6): John the Baptist pointed to 
 the power of God present in Jesus Christ. As we prepare for the birth of ba
 by Jesus, we point others to the power at work in our lives through our Emm
 anuel, God with us.\nDecember 24 • “Be Born In Us Today Bringing Light” (Lu
 ke 2:8-11): Through Scripture and song, we will rejoice that Jesus was born
  for us all on that silent night in the little town of Bethlehem so long ag
 o. His first cry announces to the world that the darkness of sin is done aw
 ay with by the shining light of his amazing love.\n
X-ALT-DESC;FMTTYPE=text/html:<p>Advent Sundays and Christmas Eve Worship</p><p>“Be Born In Us Today”</p>
 <p>In this Advent Series, we are reminded that Christ is born in us spiritu
 ally today and every day.<br />He enters into us daily to strengthen and su
 pport us, save us and renew us. We are changed by his presence within us as
  we become more and more like him in the living of our lives.</p><p>Novembe
 r 27 • “Be Born in Us Today Bringing Blessing” (Genesis 12:2): God promises
  Abraham that an offspring from his line would bring blessing to all. When 
 Jesus was born, that promise came true with an abundance.</p><p>December 4 
 • “Be Born in Us Today Bringing Renewal” (Isaiah 40:31): The prophet Isaiah
  declared that a Holy One from God would be born into this world to bring r
 enewal to all the faint and weary. Christ’s birth restores our strength tha
 t we might serve him.</p><p>December 11 • “Be Born in Us Today Bringing Gui
 dance” (Psalm 31:3): The children of Israel wandered in the desert for 40 y
 ears, often doubting God’s plan for them. With the arrival of Jesus on the 
 scene, we have a clear path to the promised land of heaven through him who 
 is the Way.</p><p>December 18 • “Be Born in Us Today Bringing Power” (Exodu
 s 15:6): John the Baptist pointed to the power of God present in Jesus Chri
 st. As we prepare for the birth of baby Jesus, we point others to the power
  at work in our lives through our Emmanuel, God with us.</p><p>December 24 
 • “Be Born In Us Today Bringing Light” (Luke 2:8-11): Through Scripture and
  song, we will rejoice that Jesus was born for us all on that silent night 
 in the little town of Bethlehem so long ago. His first cry announces to the
  world that the darkness of sin is done away with by the shining light of h
 is amazing love.</p>
DTSTAMP:20260422T104951
DTSTART;TZID=America/Los_Angeles;VALUE=DATE:20221127
DTEND;TZID=America/Los_Angeles;VALUE=DATE:20221128
SEQUENCE:0
TRANSP:OPAQUE
END:VEVENT
END:VCALENDAR